BEGIN:VCALENDAR
VERSION:2.0
PRODID:-//Western Branch Orchestras Parents Association - ECPv6.8.3//NONSGML v1.0//EN
CALSCALE:GREGORIAN
METHOD:PUBLISH
X-ORIGINAL-URL:https://westernbranchorchestra.org
X-WR-CALDESC:Events for Western Branch Orchestras Parents Association
REFRESH-INTERVAL;VALUE=DURATION:PT1H
X-Robots-Tag:noindex
X-PUBLISHED-TTL:PT1H
BEGIN:VTIMEZONE
TZID:America/New_York
BEGIN:DAYLIGHT
TZOFFSETFROM:-0500
TZOFFSETTO:-0400
TZNAME:EDT
DTSTART:20190310T070000
END:DAYLIGHT
BEGIN:STANDARD
TZOFFSETFROM:-0400
TZOFFSETTO:-0500
TZNAME:EST
DTSTART:20191103T060000
END:STANDARD
END:VTIMEZONE
BEGIN:VEVENT
DTSTART;TZID=America/New_York:20191204T193000
DTEND;TZID=America/New_York:20191204T213000
DTSTAMP:20260425T190428
CREATED:20191024T214821Z
LAST-MODIFIED:20191116T013125Z
UID:757-1575487800-1575495000@westernbranchorchestra.org
SUMMARY:Electrify Your Strings! "The Ultimate Tour" with Mark Wood Concert
DESCRIPTION:Click here to buy your tickets now!
URL:https://westernbranchorchestra.org/calendar/mark-wood-electrify-your-strings-concert/
LOCATION:Western Branch High School\, 1968 Bruin Place\, Chesapeake\, VA\, 23321\, United States
END:VEVENT
END:VCALENDAR